BEGIN:VCALENDAR
VERSION:2.0
PRODID:-//Temple Beth Abraham - ECPv6.15.20//NONSGML v1.0//EN
CALSCALE:GREGORIAN
METHOD:PUBLISH
X-WR-CALNAME:Temple Beth Abraham
X-ORIGINAL-URL:https://tba-ny.org
X-WR-CALDESC:Events for Temple Beth Abraham
REFRESH-INTERVAL;VALUE=DURATION:PT1H
X-Robots-Tag:noindex
X-PUBLISHED-TTL:PT1H
BEGIN:VTIMEZONE
TZID:America/New_York
BEGIN:DAYLIGHT
TZOFFSETFROM:-0500
TZOFFSETTO:-0400
TZNAME:EDT
DTSTART:20250309T070000
END:DAYLIGHT
BEGIN:STANDARD
TZOFFSETFROM:-0400
TZOFFSETTO:-0500
TZNAME:EST
DTSTART:20251102T060000
END:STANDARD
BEGIN:DAYLIGHT
TZOFFSETFROM:-0500
TZOFFSETTO:-0400
TZNAME:EDT
DTSTART:20260308T070000
END:DAYLIGHT
BEGIN:STANDARD
TZOFFSETFROM:-0400
TZOFFSETTO:-0500
TZNAME:EST
DTSTART:20261101T060000
END:STANDARD
BEGIN:DAYLIGHT
TZOFFSETFROM:-0500
TZOFFSETTO:-0400
TZNAME:EDT
DTSTART:20270314T070000
END:DAYLIGHT
BEGIN:STANDARD
TZOFFSETFROM:-0400
TZOFFSETTO:-0500
TZNAME:EST
DTSTART:20271107T060000
END:STANDARD
END:VTIMEZONE
BEGIN:VEVENT
DTSTART;VALUE=DATE:20260421
DTEND;VALUE=DATE:20260422
DTSTAMP:20260421T052020
CREATED:20260328T162131Z
LAST-MODIFIED:20260328T162131Z
UID:27249-1776729600-1776815999@tba-ny.org
SUMMARY:Yom HaZikaron
DESCRIPTION:Yom HaZikaron – Israel’s Memorial Day for Fallen Soldiers and Victims of Terror
URL:https://tba-ny.org/event/yom-hazikaron-2/
LOCATION:NY
CATEGORIES:Admin
END:VEVENT
BEGIN:VEVENT
DTSTART;TZID=America/New_York:20260421T193000
DTEND;TZID=America/New_York:20260421T203000
DTSTAMP:20260421T052020
CREATED:20260328T161940Z
LAST-MODIFIED:20260328T161940Z
UID:27214-1776799800-1776803400@tba-ny.org
SUMMARY:Ritual Committee Meeting (Zoom)
DESCRIPTION:The Ritual Committee meets to discuss and plan worship at TBA.\n Email Ritual@tba-ny.org for the zoom link by the Friday prior to our meeting.
URL:https://tba-ny.org/event/ritual-committee-meeting-zoom-30/
LOCATION:Temple Beth Abraham\, 25 Leroy Avenue\, Tarrytown\, NY\, 10591\, United States
CATEGORIES:Ritual Committee
ORGANIZER;CN="Ritual":MAILTO:ritual@tba-ny.org
END:VEVENT
END:VCALENDAR