BEGIN:VCALENDAR
VERSION:2.0
PRODID:-//Temple Beth Abraham - ECPv6.15.20//NONSGML v1.0//EN
CALSCALE:GREGORIAN
METHOD:PUBLISH
X-WR-CALNAME:Temple Beth Abraham
X-ORIGINAL-URL:https://tba-ny.org
X-WR-CALDESC:Events for Temple Beth Abraham
REFRESH-INTERVAL;VALUE=DURATION:PT1H
X-Robots-Tag:noindex
X-PUBLISHED-TTL:PT1H
BEGIN:VTIMEZONE
TZID:America/New_York
BEGIN:DAYLIGHT
TZOFFSETFROM:-0500
TZOFFSETTO:-0400
TZNAME:EDT
DTSTART:20230312T070000
END:DAYLIGHT
BEGIN:STANDARD
TZOFFSETFROM:-0400
TZOFFSETTO:-0500
TZNAME:EST
DTSTART:20231105T060000
END:STANDARD
BEGIN:DAYLIGHT
TZOFFSETFROM:-0500
TZOFFSETTO:-0400
TZNAME:EDT
DTSTART:20240310T070000
END:DAYLIGHT
BEGIN:STANDARD
TZOFFSETFROM:-0400
TZOFFSETTO:-0500
TZNAME:EST
DTSTART:20241103T060000
END:STANDARD
BEGIN:DAYLIGHT
TZOFFSETFROM:-0500
TZOFFSETTO:-0400
TZNAME:EDT
DTSTART:20250309T070000
END:DAYLIGHT
BEGIN:STANDARD
TZOFFSETFROM:-0400
TZOFFSETTO:-0500
TZNAME:EST
DTSTART:20251102T060000
END:STANDARD
END:VTIMEZONE
BEGIN:VEVENT
DTSTART;TZID=America/New_York:20241115T100000
DTEND;TZID=America/New_York:20241115T110000
DTSTAMP:20260423T121155
CREATED:20241103T173622Z
LAST-MODIFIED:20241103T173622Z
UID:24928-1731664800-1731668400@tba-ny.org
SUMMARY:Books & More
DESCRIPTION:Join us for a moderated discussion about books with Jewish themes.Free for members\, $3.00 for guests\nRSVP: (914) 631-1770 adulted@tba-ny.org\nThis month: “Kantika” by Elizabeth Graver
URL:https://tba-ny.org/event/books-more-8/
LOCATION:Temple Beth Abraham\, 25 Leroy Avenue\, Tarrytown\, NY\, 10591\, United States
CATEGORIES:Adult Ed,Book Club
ORGANIZER;CN="Adult Ed.":MAILTO:adulted@tba-ny.org
END:VEVENT
END:VCALENDAR