BEGIN:VCALENDAR
VERSION:2.0
PRODID:-//Temple Beth Abraham - ECPv6.15.20//NONSGML v1.0//EN
CALSCALE:GREGORIAN
METHOD:PUBLISH
X-WR-CALNAME:Temple Beth Abraham
X-ORIGINAL-URL:https://tba-ny.org
X-WR-CALDESC:Events for Temple Beth Abraham
REFRESH-INTERVAL;VALUE=DURATION:PT1H
X-Robots-Tag:noindex
X-PUBLISHED-TTL:PT1H
BEGIN:VTIMEZONE
TZID:America/New_York
BEGIN:DAYLIGHT
TZOFFSETFROM:-0500
TZOFFSETTO:-0400
TZNAME:EDT
DTSTART:20240310T070000
END:DAYLIGHT
BEGIN:STANDARD
TZOFFSETFROM:-0400
TZOFFSETTO:-0500
TZNAME:EST
DTSTART:20241103T060000
END:STANDARD
BEGIN:DAYLIGHT
TZOFFSETFROM:-0500
TZOFFSETTO:-0400
TZNAME:EDT
DTSTART:20250309T070000
END:DAYLIGHT
BEGIN:STANDARD
TZOFFSETFROM:-0400
TZOFFSETTO:-0500
TZNAME:EST
DTSTART:20251102T060000
END:STANDARD
BEGIN:DAYLIGHT
TZOFFSETFROM:-0500
TZOFFSETTO:-0400
TZNAME:EDT
DTSTART:20260308T070000
END:DAYLIGHT
BEGIN:STANDARD
TZOFFSETFROM:-0400
TZOFFSETTO:-0500
TZNAME:EST
DTSTART:20261101T060000
END:STANDARD
END:VTIMEZONE
BEGIN:VEVENT
DTSTART;TZID=America/New_York:20251111T190000
DTEND;TZID=America/New_York:20251111T190000
DTSTAMP:20260422T152724
CREATED:20251026T231838Z
LAST-MODIFIED:20251026T231838Z
UID:26501-1762887600-1762887600@tba-ny.org
SUMMARY:Books@Night
DESCRIPTION:Join us for a moderated discussion about books with Jewish themes.\nThis monthÕs selection: “Goyhood” by Reuven Fenton\nFrom the publisher: “…a devoutly Orthodox Jewish man… discovers in middle age that he’s not\, in fact\, Jewish\, and embarks on a remarkable road trip to come to grips with his fate; it’s Chaim Potok’s ‘The Chosen’ meets ‘Planes\, Trains and Automobiles.'”\nDiscussion moderated by a congregant.\n$5.00 suggested donation per guest. Guests are asked to register with the office: (914) 631-1770 or tbaoffice@tba-ny.org
URL:https://tba-ny.org/event/booksnight-17/
LOCATION:Temple Beth Abraham\, 25 Leroy Avenue\, Tarrytown\, NY\, 10591\, United States
CATEGORIES:Adult Ed,Book Club
ORGANIZER;CN="Adult Ed.":MAILTO:adulted@tba-ny.org
END:VEVENT
BEGIN:VEVENT
DTSTART;TZID=America/New_York:20251114T100000
DTEND;TZID=America/New_York:20251114T100000
DTSTAMP:20260422T152724
CREATED:20251026T231854Z
LAST-MODIFIED:20251026T231854Z
UID:26504-1763114400-1763114400@tba-ny.org
SUMMARY:Books & More
DESCRIPTION:Join us for a moderated discussion about books with Jewish themes.\nThis monthÕs selection: “Beautiful: The life of Hedy Lamarr” by Stephen Michael Shearer\nFrom the publisher: “[An]…in-depth and meticulously researched biography\, written with the cooperation of HedyÕs children\, intimate friends\, and colleagues\, [that] separates the truths from the rumors\, the facts from the fables\, about Hedy Lamarr\, to reveal the life and character of one of classic HollywoodÕs most beautiful and remarkable women.'”\nDiscussion moderated by TBA’s Director of Temple Administration & Membership\, Sherry Saturno.\n$5.00 suggested donation per guest. Guests are asked to register with the office: (914) 631-1770 or tbaoffice@tba-ny.org
URL:https://tba-ny.org/event/books-more-14/
LOCATION:Temple Beth Abraham\, 25 Leroy Avenue\, Tarrytown\, NY\, 10591\, United States
CATEGORIES:Adult Ed,Book Club
ORGANIZER;CN="Adult Ed.":MAILTO:adulted@tba-ny.org
END:VEVENT
END:VCALENDAR