BEGIN:VCALENDAR
VERSION:2.0
PRODID:-//Temple Beth Abraham - ECPv6.15.20//NONSGML v1.0//EN
CALSCALE:GREGORIAN
METHOD:PUBLISH
X-WR-CALNAME:Temple Beth Abraham
X-ORIGINAL-URL:https://tba-ny.org
X-WR-CALDESC:Events for Temple Beth Abraham
REFRESH-INTERVAL;VALUE=DURATION:PT1H
X-Robots-Tag:noindex
X-PUBLISHED-TTL:PT1H
BEGIN:VTIMEZONE
TZID:America/New_York
BEGIN:DAYLIGHT
TZOFFSETFROM:-0500
TZOFFSETTO:-0400
TZNAME:EDT
DTSTART:20250309T070000
END:DAYLIGHT
BEGIN:STANDARD
TZOFFSETFROM:-0400
TZOFFSETTO:-0500
TZNAME:EST
DTSTART:20251102T060000
END:STANDARD
BEGIN:DAYLIGHT
TZOFFSETFROM:-0500
TZOFFSETTO:-0400
TZNAME:EDT
DTSTART:20260308T070000
END:DAYLIGHT
BEGIN:STANDARD
TZOFFSETFROM:-0400
TZOFFSETTO:-0500
TZNAME:EST
DTSTART:20261101T060000
END:STANDARD
BEGIN:DAYLIGHT
TZOFFSETFROM:-0500
TZOFFSETTO:-0400
TZNAME:EDT
DTSTART:20270314T070000
END:DAYLIGHT
BEGIN:STANDARD
TZOFFSETFROM:-0400
TZOFFSETTO:-0500
TZNAME:EST
DTSTART:20271107T060000
END:STANDARD
END:VTIMEZONE
BEGIN:VEVENT
DTSTART;TZID=America/New_York:20260210T190000
DTEND;TZID=America/New_York:20260210T203000
DTSTAMP:20260422T065846
CREATED:20260203T014642Z
LAST-MODIFIED:20260203T014642Z
UID:26944-1770750000-1770755400@tba-ny.org
SUMMARY:Books@Night
DESCRIPTION:Join us for a moderated discussion about books with Jewish themes.\nFree for members\, $5.00 for guests\nGuests are asked to RSVP: (914) 631-1770 or  adulted@tba-ny.org\nThis month: ÒOne Hundred Saturdays” by  Michael Frank\nIllustrated by Maira Kalman
URL:https://tba-ny.org/event/booksnight-18/
LOCATION:Temple Beth Abraham\, 25 Leroy Avenue\, Tarrytown\, NY\, 10591\, United States
CATEGORIES:Adult Ed,Book Club
ORGANIZER;CN="Adult Ed.":MAILTO:adulted@tba-ny.org
END:VEVENT
END:VCALENDAR