BEGIN:VCALENDAR
VERSION:2.0
PRODID:-//Temple Beth Abraham - ECPv6.15.20//NONSGML v1.0//EN
CALSCALE:GREGORIAN
METHOD:PUBLISH
X-ORIGINAL-URL:https://tba-ny.org
X-WR-CALDESC:Events for Temple Beth Abraham
REFRESH-INTERVAL;VALUE=DURATION:PT1H
X-Robots-Tag:noindex
X-PUBLISHED-TTL:PT1H
BEGIN:VTIMEZONE
TZID:America/New_York
BEGIN:DAYLIGHT
TZOFFSETFROM:-0500
TZOFFSETTO:-0400
TZNAME:EDT
DTSTART:20120311T070000
END:DAYLIGHT
BEGIN:STANDARD
TZOFFSETFROM:-0400
TZOFFSETTO:-0500
TZNAME:EST
DTSTART:20121104T060000
END:STANDARD
BEGIN:DAYLIGHT
TZOFFSETFROM:-0500
TZOFFSETTO:-0400
TZNAME:EDT
DTSTART:20130310T070000
END:DAYLIGHT
BEGIN:STANDARD
TZOFFSETFROM:-0400
TZOFFSETTO:-0500
TZNAME:EST
DTSTART:20131103T060000
END:STANDARD
BEGIN:DAYLIGHT
TZOFFSETFROM:-0500
TZOFFSETTO:-0400
TZNAME:EDT
DTSTART:20140309T070000
END:DAYLIGHT
BEGIN:STANDARD
TZOFFSETFROM:-0400
TZOFFSETTO:-0500
TZNAME:EST
DTSTART:20141102T060000
END:STANDARD
BEGIN:DAYLIGHT
TZOFFSETFROM:-0500
TZOFFSETTO:-0400
TZNAME:EDT
DTSTART:20150308T070000
END:DAYLIGHT
BEGIN:STANDARD
TZOFFSETFROM:-0400
TZOFFSETTO:-0500
TZNAME:EST
DTSTART:20151101T060000
END:STANDARD
BEGIN:DAYLIGHT
TZOFFSETFROM:-0500
TZOFFSETTO:-0400
TZNAME:EDT
DTSTART:20160313T070000
END:DAYLIGHT
BEGIN:STANDARD
TZOFFSETFROM:-0400
TZOFFSETTO:-0500
TZNAME:EST
DTSTART:20161106T060000
END:STANDARD
BEGIN:DAYLIGHT
TZOFFSETFROM:-0500
TZOFFSETTO:-0400
TZNAME:EDT
DTSTART:20170312T070000
END:DAYLIGHT
BEGIN:STANDARD
TZOFFSETFROM:-0400
TZOFFSETTO:-0500
TZNAME:EST
DTSTART:20171105T060000
END:STANDARD
BEGIN:DAYLIGHT
TZOFFSETFROM:-0500
TZOFFSETTO:-0400
TZNAME:EDT
DTSTART:20180311T070000
END:DAYLIGHT
BEGIN:STANDARD
TZOFFSETFROM:-0400
TZOFFSETTO:-0500
TZNAME:EST
DTSTART:20181104T060000
END:STANDARD
BEGIN:DAYLIGHT
TZOFFSETFROM:-0500
TZOFFSETTO:-0400
TZNAME:EDT
DTSTART:20190310T070000
END:DAYLIGHT
BEGIN:STANDARD
TZOFFSETFROM:-0400
TZOFFSETTO:-0500
TZNAME:EST
DTSTART:20191103T060000
END:STANDARD
BEGIN:DAYLIGHT
TZOFFSETFROM:-0500
TZOFFSETTO:-0400
TZNAME:EDT
DTSTART:20200308T070000
END:DAYLIGHT
BEGIN:STANDARD
TZOFFSETFROM:-0400
TZOFFSETTO:-0500
TZNAME:EST
DTSTART:20201101T060000
END:STANDARD
END:VTIMEZONE
BEGIN:VEVENT
DTSTART;TZID=America/New_York:20190510T100000
DTEND;TZID=America/New_York:20190510T120000
DTSTAMP:20260420T094343
CREATED:20190415T155132Z
LAST-MODIFIED:20190415T155132Z
UID:10874-1557482400-1557489600@tba-ny.org
SUMMARY:Book Club: To the End of the Land by David Grossman
DESCRIPTION:To the End of the Land\, by David Grossman \nOra\, a middle aged Israeli mother\, is about to celebrate her son Ofra’s release from army service.  Instead he returns to the front for a major offensive.  Upset by her son’s decision\, she sets out on a journey through the Galilee\, avoiding all news of the fighting\, in the hopes of also avoiding the dreaded knock on the door notifying her of the most horrible news imaginable- her son’s death.  If she is not at home\, her son’s death cannot happen.  Ora is accompanied on her travels by Avram\, her son’s biological father\, who has never met Ofra\, and who is the best friend of her ex-husband.  As they travel\, Ora describes the realities of daily life in Israel\, raising children amidst the background of continuous warfare and strife. Ora believes that Israel has no future.  “It doesn’t really have a chance\, this country.  It just doesn’t.”   \nWill you agree with her when you finish reading this book?   \n$2.00 suggested donation per guest \nRSVP: (914) 631-1770 adulted@tba-ny.org
URL:https://tba-ny.org/event/book-club-to-the-end-of-the-land-by-david-grossman/
LOCATION:Temple Beth Abraham\, 25 Leroy Avenue\, Tarrytown\, NY\, 10591\, United States
CATEGORIES:Adult Ed,Book Club
ORGANIZER;CN="Adult Ed.":MAILTO:adulted@tba-ny.org
END:VEVENT
BEGIN:VEVENT
DTSTART;TZID=America/New_York:20190423T190000
DTEND;TZID=America/New_York:20190423T210000
DTSTAMP:20260420T094343
CREATED:20190322T042447Z
LAST-MODIFIED:20190322T042447Z
UID:10753-1556046000-1556053200@tba-ny.org
SUMMARY:TBA Books@Night (Book Club)
DESCRIPTION:This month’s selection: The Last Watchman of Old Cairo by Michael David Lukas \nWinner of the National Jewish Book Award in fiction. Named one of the Ten Best Books of the Year by the BBC. A Penguin Random House International One World\, One Book Selection. \nJoseph\, a literature student at Berkeley\, is the son of a Jewish mother and a Muslim father. One day\, a mysterious package arrives on his doorstep\, pulling him into a mesmerizing adventure to uncover the tangled history that binds the two sides of his family. For generations\, the men of the al-Raqb family have served as watchmen of the storied Ibn Ezra Synagogue in Old Cairo\, built at the site where the infant Moses was taken from the Nile. Joseph learns of his ancestor Ali\, a Muslim orphan who nearly a thousand years earlier was entrusted as the first watchman of the synagogue and became enchanted by its legendary—perhaps magical—Ezra Scroll. The story of Joseph’s family is entwined with that of the British twin sisters Agnes and Margaret\, who in 1897 depart their hallowed Cambridge halls on a mission to rescue sacred texts that have begun to disappear from the synagogue.  \n$2.00 suggested donation per guest. RSVP: (914) 631-1770 adulted@tba-ny.org
URL:https://tba-ny.org/event/tba-booksnight-book-club-5/
LOCATION:Temple Beth Abraham\, 25 Leroy Avenue\, Tarrytown\, NY\, 10591\, United States
CATEGORIES:Adult Ed,Book Club
ORGANIZER;CN="Adult Ed.":MAILTO:adulted@tba-ny.org
END:VEVENT
BEGIN:VEVENT
DTSTART;TZID=America/New_York:20190308T100000
DTEND;TZID=America/New_York:20190308T120000
DTSTAMP:20260420T094343
CREATED:20190214T015023Z
LAST-MODIFIED:20190214T015023Z
UID:10455-1552039200-1552046400@tba-ny.org
SUMMARY:Book Club: Amos Oz
DESCRIPTION:Reader’s Choice! – Amos Oz \nTo honor this renown author\, book club members should select one of the many works of Mr. Oz \nWe will discuss the works of Amos Oz\, Israeli writer and novelist\, who died this past December\, 2018. Author of many works of both fiction and non-fiction\, Mr. Oz\, proud to write his works in Hebrew\, a language of ancient times revived by modern Israel\, was considered the voice and soul of today’s Israel. In an interview with The New York Times in 1978 Mr. Oz said\, “I bring up the evil spirits and record the traumas\, the fantasies\, the lunacies of Israeli Jews\, natives and those from Central Europe. I deal with their ambitions and the powder-box of self-denial and self-hatred.” \n$2.00 suggested donation per guest.\nRSVP: (914) 631-1770 adulted@tba-ny.org
URL:https://tba-ny.org/event/book-club-amos-oz/
LOCATION:NY
CATEGORIES:Adult Ed,Book Club
ORGANIZER;CN="Adult Ed.":MAILTO:adulted@tba-ny.org
END:VEVENT
BEGIN:VEVENT
DTSTART;TZID=America/New_York:20190212T190000
DTEND;TZID=America/New_York:20190212T203000
DTSTAMP:20260420T094343
CREATED:20190109T173930Z
LAST-MODIFIED:20190109T173930Z
UID:10262-1549998000-1550003400@tba-ny.org
SUMMARY:TBA Books@Night (Book Club)
DESCRIPTION:This month we are reading\, Orchestra of Exiles: The Story of Bronislaw Huberman\, the Israel Philharmonic\, and the One Thousand Jews He Saved from Nazi Horrors by Josh Aronson \nFree for members; $2 suggested donation for guests \nPurchase this book through Amazon Smile and select “Hebrew Congregation of North Tarrytown & Tarrytown\, Temple Beth Abraham” as your charity to help raise money for TBA!
URL:https://tba-ny.org/event/tba-booksnight-book-club-4/
LOCATION:Temple Beth Abraham\, 25 Leroy Avenue\, Tarrytown\, NY\, 10591\, United States
CATEGORIES:Adult Ed,Book Club
ORGANIZER;CN="Adult Ed.":MAILTO:adulted@tba-ny.org
END:VEVENT
BEGIN:VEVENT
DTSTART;TZID=America/New_York:20190111T100000
DTEND;TZID=America/New_York:20190111T120000
DTSTAMP:20260420T094343
CREATED:20181215T002957Z
LAST-MODIFIED:20181215T011349Z
UID:10136-1547200800-1547208000@tba-ny.org
SUMMARY:Book Club
DESCRIPTION:This month’s selection: As Close To Us As Breathing by Elizabeth Poliner \nIn 1948\, a small stretch of Woodmont\, Connecticut shoreline\, affectionately named ‘Bagel Beach’\, has long been a summer destination for Jewish families. Here sisters Ada\, Vivie and Bec assemble at their beloved family cottage\, with children in tow and weekend-only husbands who arrive each Friday in time for the Sabbath meal. \nDuring the weekdays\, freedom reigns. … But when a terrible accident occurs on the sisters’ watch\, a summer of hope and self-discovery transforms into a lifetime of atonement and loss for members of this close-knit clan. Seen through the eyes of Molly\, who was 12 years old when she witnessed the accident\, this is the story of a tragedy and its aftermath\, of expanding lives painfully collapsed. Can Molly\, decades after the event\, draw from her aunt Bec’s hard-won wisdom and free herself from the burden that destroyed so many others? – National Jewish Book Club 2018-2019 \n$2.00 suggested donation per guest. RSVP: (914) 631-1770 adulted@tba-ny.org \nPurchase this book through Amazon Smile and select “Hebrew Congregation of North Tarrytown & Tarrytown\, Temple Beth Abraham” as your charity to help raise money for TBA!
URL:https://tba-ny.org/event/book-club-copy/
LOCATION:Temple Beth Abraham\, 25 Leroy Avenue\, Tarrytown\, NY\, 10591\, United States
CATEGORIES:Adult Ed,Book Club
ORGANIZER;CN="Adult Ed.":MAILTO:adulted@tba-ny.org
END:VEVENT
BEGIN:VEVENT
DTSTART;TZID=America/New_York:20181218T190000
DTEND;TZID=America/New_York:20181218T203000
DTSTAMP:20260420T094343
CREATED:20181129T032858Z
LAST-MODIFIED:20181129T032858Z
UID:10033-1545159600-1545165000@tba-ny.org
SUMMARY:TBA Books@Night (Book Club)
DESCRIPTION:This month we are reading\, Nathan Englander’s “What We Talk About When We Talk About Anne Frank.” \nFree for members; $2 suggested donation for guests \nPurchase this book through Amazon Smile and select “Hebrew Congregation of North Tarrytown & Tarrytown\, Temple Beth Abraham” as your charity to help raise money for TBA!
URL:https://tba-ny.org/event/tba-booksnight-book-club-3/
LOCATION:Temple Beth Abraham\, 25 Leroy Avenue\, Tarrytown\, NY\, 10591\, United States
CATEGORIES:Adult Ed,Book Club
ORGANIZER;CN="Adult Ed.":MAILTO:adulted@tba-ny.org
END:VEVENT
BEGIN:VEVENT
DTSTART;TZID=America/New_York:20181130T100000
DTEND;TZID=America/New_York:20181130T120000
DTSTAMP:20260420T094343
CREATED:20181024T021845Z
LAST-MODIFIED:20181129T032335Z
UID:9828-1543572000-1543579200@tba-ny.org
SUMMARY:RESCHEDULED: Book Club
DESCRIPTION:This month’s selection: Count to A Thousand by Caroline Goldberg Igra \nRescheduled due to weather.  Ms. Igra may join us via Skype video. \nFree for members; $2 suggested donation for guests \nPurchase this book through Amazon Smile and select “Hebrew Congregation of North Tarrytown & Tarrytown\, Temple Beth Abraham” as your charity to help raise money for TBA!
URL:https://tba-ny.org/event/book-club-author-visit/
LOCATION:Temple Beth Abraham\, 25 Leroy Avenue\, Tarrytown\, NY\, 10591\, United States
CATEGORIES:Adult Ed,Book Club
ORGANIZER;CN="Adult Ed.":MAILTO:adulted@tba-ny.org
END:VEVENT
BEGIN:VEVENT
DTSTART;TZID=America/New_York:20181023T190000
DTEND;TZID=America/New_York:20181023T203000
DTSTAMP:20260420T094343
CREATED:20180923T213210Z
LAST-MODIFIED:20180923T213210Z
UID:9668-1540321200-1540326600@tba-ny.org
SUMMARY:TBA Books@Night (Book Club)
DESCRIPTION:Selection t/b/d \nFree for members; $2 suggested donation for guests \nPurchase this book through Amazon Smile and select “Hebrew Congregation of North Tarrytown & Tarrytown\, Temple Beth Abraham” as your charity to help raise money for TBA!
URL:https://tba-ny.org/event/tba-booksnight-book-club-2/
LOCATION:Temple Beth Abraham\, 25 Leroy Avenue\, Tarrytown\, NY\, 10591\, United States
CATEGORIES:Adult Ed,Book Club
ORGANIZER;CN="Adult Ed.":MAILTO:adulted@tba-ny.org
END:VEVENT
BEGIN:VEVENT
DTSTART;TZID=America/New_York:20180925T190000
DTEND;TZID=America/New_York:20180925T203000
DTSTAMP:20260420T094343
CREATED:20180822T205335Z
LAST-MODIFIED:20180822T205335Z
UID:9458-1537902000-1537907400@tba-ny.org
SUMMARY:TBA Books@Night (Book Club)
DESCRIPTION:This month: Nine Folds Make a Paper Swan by Ruth Gilligan \nFree for members; $2 suggested donation for guests \nPurchase this book through Amazon Smile and select “Hebrew Congregation of North Tarrytown & Tarrytown\, Temple Beth Abraham” as your charity to help raise money for TBA!
URL:https://tba-ny.org/event/tba-booksnight-book-club/
LOCATION:Temple Beth Abraham\, 25 Leroy Avenue\, Tarrytown\, NY\, 10591\, United States
CATEGORIES:Book Club
ORGANIZER;CN="Adult Ed.":MAILTO:adulted@tba-ny.org
END:VEVENT
BEGIN:VEVENT
DTSTART;TZID=America/New_York:20180914T100000
DTEND;TZID=America/New_York:20180914T113000
DTSTAMP:20260420T094343
CREATED:20180822T204748Z
LAST-MODIFIED:20180822T204748Z
UID:9455-1536919200-1536924600@tba-ny.org
SUMMARY:Book Club
DESCRIPTION:This month’s: Letters to My Palestinian Neighbor by Yossi Klein Halevi \nFree for members; $2 suggested donation for guests \nPurchase this book through Amazon Smile and select “Hebrew Congregation of North Tarrytown & Tarrytown\, Temple Beth Abraham” as your charity to help raise money for TBA!
URL:https://tba-ny.org/event/book-club-25/
LOCATION:Temple Beth Abraham\, 25 Leroy Avenue\, Tarrytown\, NY\, 10591\, United States
CATEGORIES:Book Club
ORGANIZER;CN="Adult Ed.":MAILTO:adulted@tba-ny.org
END:VEVENT
BEGIN:VEVENT
DTSTART;TZID=America/New_York:20171117T100000
DTEND;TZID=America/New_York:20171117T120000
DTSTAMP:20260420T094343
CREATED:20171016T035232Z
LAST-MODIFIED:20171016T035232Z
UID:7946-1510912800-1510920000@tba-ny.org
SUMMARY:Book Club
DESCRIPTION:This month’s selection: What We Talk About When We Talk About Anne Frank by Nathan Englander. \nFree for members; $2 suggested donation for guests \nYou can purchase this book through Amazon Smile and select “Hebrew Congregation of North Tarrytown & Tarrytown\, Temple Beth Abraham” as your charity to help raise money for TBA!
URL:https://tba-ny.org/event/book-club-24/
LOCATION:Temple Beth Abraham\, 25 Leroy Avenue\, Tarrytown\, NY\, 10591\, United States
CATEGORIES:Book Club
ORGANIZER;CN="Adult Ed.":MAILTO:adulted@tba-ny.org
END:VEVENT
BEGIN:VEVENT
DTSTART;TZID=America/New_York:20170915T100000
DTEND;TZID=America/New_York:20170915T113000
DTSTAMP:20260420T094343
CREATED:20170811T224352Z
LAST-MODIFIED:20170811T224352Z
UID:7663-1505469600-1505475000@tba-ny.org
SUMMARY:Book Club
DESCRIPTION:This month’s selection: All The Rivers\, by Dorit Rabinyan \nfree for members; $2 suggested donation for guests \nYou can purchase this book through Amazon Smile and select “Hebrew Congregation of North Tarrytown & Tarrytown\, Temple Beth Abraham” as your charity to help raise money for TBA!
URL:https://tba-ny.org/event/book-club-23/
LOCATION:Temple Beth Abraham\, 25 Leroy Avenue\, Tarrytown\, NY\, 10591\, United States
CATEGORIES:Book Club
ORGANIZER;CN="Adult Ed.":MAILTO:adulted@tba-ny.org
END:VEVENT
BEGIN:VEVENT
DTSTART;TZID=America/New_York:20170707T100000
DTEND;TZID=America/New_York:20170707T113000
DTSTAMP:20260420T094343
CREATED:20170613T211430Z
LAST-MODIFIED:20170613T211430Z
UID:7274-1499421600-1499427000@tba-ny.org
SUMMARY:Book Club
DESCRIPTION:This month’s selection: The Attack by Yasmin Khadra \nfree for members; $2 suggested donation for guests \nYou can purchase this book through Amazon Smile and select “Hebrew Congregation of North Tarrytown & Tarrytown\, Temple Beth Abraham” as your charity to help raise money for TBA!
URL:https://tba-ny.org/event/book-club-22/
LOCATION:Temple Beth Abraham\, 25 Leroy Avenue\, Tarrytown\, NY\, 10591\, United States
CATEGORIES:Book Club
ORGANIZER;CN="Adult Ed.":MAILTO:adulted@tba-ny.org
END:VEVENT
BEGIN:VEVENT
DTSTART;TZID=America/New_York:20170512T100000
DTEND;TZID=America/New_York:20170512T120000
DTSTAMP:20260420T094343
CREATED:20170430T024635Z
LAST-MODIFIED:20170430T024635Z
UID:6882-1494583200-1494590400@tba-ny.org
SUMMARY:Book Club
DESCRIPTION:Discussion of “The Muralist” by B.A. Shapiro
URL:https://tba-ny.org/event/book-club-21/
LOCATION:Temple Beth Abraham\, 25 Leroy Avenue\, Tarrytown\, NY\, 10591\, United States
CATEGORIES:Book Club
ORGANIZER;CN="Adult Ed.":MAILTO:adulted@tba-ny.org
END:VEVENT
BEGIN:VEVENT
DTSTART;TZID=America/New_York:20161118T100000
DTEND;TZID=America/New_York:20161118T120000
DTSTAMP:20260420T094343
CREATED:20161028T161816Z
LAST-MODIFIED:20161028T161816Z
UID:6169-1479463200-1479470400@tba-ny.org
SUMMARY:Book Club
DESCRIPTION:Here I Am: by Jonathan Safran Foer
URL:https://tba-ny.org/event/book-club-20/
LOCATION:Temple Beth Abraham\, 25 Leroy Avenue\, Tarrytown\, NY\, 10591\, United States
CATEGORIES:Adult Ed,Book Club
END:VEVENT
BEGIN:VEVENT
DTSTART;TZID=America/New_York:20160923T100000
DTEND;TZID=America/New_York:20160923T120000
DTSTAMP:20260420T094343
CREATED:20160814T191318Z
LAST-MODIFIED:20160814T191318Z
UID:5920-1474624800-1474632000@tba-ny.org
SUMMARY:Book Club
DESCRIPTION:We are reading: \nThe Best Place on Earth by Ayelet Tsabari
URL:https://tba-ny.org/event/book-club-18/
LOCATION:Temple Beth Abraham\, 25 Leroy Avenue\, Tarrytown\, NY\, 10591\, United States
CATEGORIES:Book Club
ORGANIZER;CN="Adult Ed.":MAILTO:adulted@tba-ny.org
END:VEVENT
BEGIN:VEVENT
DTSTART;TZID=America/New_York:20160715T100000
DTEND;TZID=America/New_York:20160715T120000
DTSTAMP:20260420T094343
CREATED:20160620T204637Z
LAST-MODIFIED:20160620T204637Z
UID:5706-1468576800-1468584000@tba-ny.org
SUMMARY:Book Club
DESCRIPTION:This month’s selection: “The Beauty Queen of Jerusalem” by Sarit Yishai-Lev
URL:https://tba-ny.org/event/book-club-19/
LOCATION:Temple Beth Abraham\, 25 Leroy Avenue\, Tarrytown\, NY\, 10591\, United States
CATEGORIES:Book Club
ORGANIZER;CN="Adult Ed.":MAILTO:adulted@tba-ny.org
END:VEVENT
BEGIN:VEVENT
DTSTART;TZID=America/New_York:20160506T100000
DTEND;TZID=America/New_York:20160506T120000
DTSTAMP:20260420T094343
CREATED:20160419T230137Z
LAST-MODIFIED:20160509T010850Z
UID:5543-1462528800-1462536000@tba-ny.org
SUMMARY:Book Club
DESCRIPTION:The Secret Chord by Geraldine Brooks \n“Brooks\, a former journalist and now a Pulitzer Prize-winning novelist\, builds the story from scriptural sources\, so all the well-known high points are hit: the giant-slaying\, harp-playing\, kingdom building\, midnight bath-watching\, and so on. What’s added to blazing effect\, are the other characters\, who tell of their own roles… These include David’s opponents\, advisors\, and sons\, but most crucially his mother and his wives.” – Alana Newhouse for the New York Times Book Review\, Sunday\, Oct. 25\, 2015
URL:https://tba-ny.org/event/book-club-17/
LOCATION:Temple Beth Abraham\, 25 Leroy Avenue\, Tarrytown\, NY\, 10591\, United States
CATEGORIES:Adult Ed,Book Club
ORGANIZER;CN="Adult Ed.":MAILTO:adulted@tba-ny.org
END:VEVENT
BEGIN:VEVENT
DTSTART;TZID=America/New_York:20160311T100000
DTEND;TZID=America/New_York:20160311T120000
DTSTAMP:20260420T094343
CREATED:20160226T184210Z
LAST-MODIFIED:20160509T010850Z
UID:5387-1457690400-1457697600@tba-ny.org
SUMMARY:Book Club
DESCRIPTION:Saving Sophie by Ronald H. Balson
URL:https://tba-ny.org/event/book-club-16/
LOCATION:Temple Beth Abraham\, 25 Leroy Avenue\, Tarrytown\, NY\, 10591\, United States
CATEGORIES:Adult Ed,Book Club
ORGANIZER;CN="Adult Ed.":MAILTO:adulted@tba-ny.org
END:VEVENT
BEGIN:VEVENT
DTSTART;TZID=America/New_York:20151113T100000
DTEND;TZID=America/New_York:20151113T120000
DTSTAMP:20260420T094343
CREATED:20150920T003712Z
LAST-MODIFIED:20160509T010850Z
UID:4928-1447408800-1447416000@tba-ny.org
SUMMARY:Book Club
DESCRIPTION:The TBA Book Club will be discussing Safekeeping by Jessamyn Hope \nModerator: Linda Gerstman\nLight refreshments served\nRSVP: (914) 631-1770 adulted@tba-ny.org\nFree to members\n$2 suggested donation per guest
URL:https://tba-ny.org/event/book-club-15/
LOCATION:Temple Beth Abraham\, 25 Leroy Avenue\, Tarrytown\, NY\, 10591\, United States
CATEGORIES:Adult Ed,Book Club
END:VEVENT
BEGIN:VEVENT
DTSTART;TZID=America/New_York:20150710T100000
DTEND;TZID=America/New_York:20150710T113000
DTSTAMP:20260420T094343
CREATED:20150621T003258Z
LAST-MODIFIED:20160509T010850Z
UID:4461-1436522400-1436527800@tba-ny.org
SUMMARY:Book Club
DESCRIPTION:“The Nightingale” by Kristin Hannah\nLocation to be announced
URL:https://tba-ny.org/event/book-club-14/
LOCATION:NY
CATEGORIES:Adult Ed,Book Club
END:VEVENT
BEGIN:VEVENT
DTSTART;TZID=America/New_York:20150515T100000
DTEND;TZID=America/New_York:20150515T120000
DTSTAMP:20260420T094343
CREATED:20150109T150546Z
LAST-MODIFIED:20160509T010850Z
UID:3501-1431684000-1431691200@tba-ny.org
SUMMARY:Book Club
DESCRIPTION:November 7 The Lost Wife by Alyson Richman \nJanuary 9 The Book of Abraham by Marek Halter \nMarch 13 The Boston Girl by Anita Diamant \nMay 15 Ten Green Bottles: Vienna to Shanghai-Journey of Fear and Hope by Vivian Jeanette Kaplan \nGroup meets Fridays at 10:00am at Temple Beth Abraham \nModerator: Sharon DeLevie \nLight refreshments served \nGuests $2.00; Free to TBA members \nRSVP: (914) 631-1770 adulted@tba-ny.org
URL:https://tba-ny.org/event/book-club-cancelled-due-weather-will-reschedule/
LOCATION:Temple Beth Abraham\, 25 Leroy Avenue\, Tarrytown\, NY\, 10591\, United States
CATEGORIES:Adult Ed,Book Club
ORGANIZER;CN="Adult Ed.":MAILTO:adulted@tba-ny.org
END:VEVENT
BEGIN:VEVENT
DTSTART;TZID=America/New_York:20150109T100000
DTEND;TZID=America/New_York:20150109T120000
DTSTAMP:20260420T094343
CREATED:20150109T185739Z
LAST-MODIFIED:20160509T010850Z
UID:3709-1420797600-1420804800@tba-ny.org
SUMMARY:Book Club - to be rescheduled
DESCRIPTION:November 7 The Lost Wife by Alyson Richman \nJanuary 9 The Book of Abraham by Marek Halter – CANCELED DUE TO WEATHER.  WILL BE RESCHEDULED \nMarch 13 The Boston Girl by Anita Diamant \nMay 8 Ten Green Bottles: Vienna to Shanghai-Journey of Fear and Hope by Vivian Jeanette Kaplan \nGroup meets Fridays at 10:00am at Temple Beth Abraham \nModerator: Sharon DeLevie \nLight refreshments served \nGuests $2.00; Free to TBA members \nRSVP: (914) 631-1770 adulted@tba-ny.org
URL:https://tba-ny.org/event/book-club-rescheduled/
LOCATION:Temple Beth Abraham\, 25 Leroy Avenue\, Tarrytown\, NY\, 10591\, United States
CATEGORIES:Adult Ed,Book Club
ORGANIZER;CN="Adult Ed.":MAILTO:adulted@tba-ny.org
END:VEVENT
BEGIN:VEVENT
DTSTART;TZID=America/New_York:20141107T100000
DTEND;TZID=America/New_York:20141107T120000
DTSTAMP:20260420T094343
CREATED:20141010T015114Z
LAST-MODIFIED:20160509T010850Z
UID:3503-1415354400-1415361600@tba-ny.org
SUMMARY:Book Club
DESCRIPTION:November 7 The Lost Wife by Alyson Richman \nJanuary 9 The Book of Abraham by Marek Halter \nMarch 13 A Bottle in the Gaza Sea by Valerie Zenatti \nGroup meets Fridays at 10:00am at Temple Beth Abraham \nModerator: Sharon DeLevie Light refreshments served \n$2.00/Guest; Free to TBA Members \nRSVP: (914) 631-1770 adulted@tba-ny.org
URL:https://tba-ny.org/event/book-club-13/
LOCATION:Temple Beth Abraham\, 25 Leroy Avenue\, Tarrytown\, NY\, 10591\, United States
CATEGORIES:Adult Ed,Book Club
ORGANIZER;CN="Adult Ed.":MAILTO:adulted@tba-ny.org
END:VEVENT
BEGIN:VEVENT
DTSTART;TZID=America/New_York:20140912T100000
DTEND;TZID=America/New_York:20140912T120000
DTSTAMP:20260420T094343
CREATED:20140611T215327Z
LAST-MODIFIED:20160509T010850Z
UID:3123-1410516000-1410523200@tba-ny.org
SUMMARY:Book Club
DESCRIPTION:The Book of Abraham by Marek Halter
URL:https://tba-ny.org/event/book-club-12/
LOCATION:Temple Beth Abraham\, 25 Leroy Avenue\, Tarrytown\, NY\, 10591\, United States
CATEGORIES:Adult Ed,Book Club
END:VEVENT
BEGIN:VEVENT
DTSTART;TZID=America/New_York:20140718T100000
DTEND;TZID=America/New_York:20140718T120000
DTSTAMP:20260420T094343
CREATED:20140511T041055Z
LAST-MODIFIED:20160509T010849Z
UID:3050-1405677600-1405684800@tba-ny.org
SUMMARY:Book Club
DESCRIPTION:My Promised Land by Ari Shavit \nEvent not at Temple Beth Abraham – Please contact the Temple Office or adulted@tba-ny.org for location and directions.
URL:https://tba-ny.org/event/book-club-11/
LOCATION:NY
CATEGORIES:Adult Ed,Book Club
END:VEVENT
BEGIN:VEVENT
DTSTART;TZID=America/New_York:20140509T100000
DTEND;TZID=America/New_York:20140509T120000
DTSTAMP:20260420T094343
CREATED:20140422T201623Z
LAST-MODIFIED:20160509T010849Z
UID:3019-1399629600-1399636800@tba-ny.org
SUMMARY:Book Club
DESCRIPTION:This month we are reading “Liar’s Gospel” by Naomi Alderman \nNon-members $2.00 to offset the cost of refreshments
URL:https://tba-ny.org/event/book-club-10/
LOCATION:Temple Beth Abraham\, 25 Leroy Avenue\, Tarrytown\, NY\, 10591\, United States
CATEGORIES:Adult Ed,Book Club
END:VEVENT
BEGIN:VEVENT
DTSTART;TZID=America/New_York:20140314T100000
DTEND;TZID=America/New_York:20140314T120000
DTSTAMP:20260420T094343
CREATED:20140129T063827Z
LAST-MODIFIED:20160509T010849Z
UID:2814-1394791200-1394798400@tba-ny.org
SUMMARY:Book Club
DESCRIPTION:Free Spirit by Joshua Safran \nAn Unforgettable Journey Through an Unconventional Childhood \nWhen Joshua Safran was four years old\, his mother–determined to protect him from the threats of nuclear war and Ronald Reagan–took to the open road with her young son\, leaving the San Francisco countercultural scene behind. Together they embarked on a journey to find a utopia they could call home. In Free Spirit\, Safran tells the harrowing\, yet wryly funny story of his childhood chasing this perfect life off the grid–and how they survived the imperfect one they found instead. \nEncountering a cast of strange and humorous characters along the way\, Joshua spends his early years living in a series of makeshift homes\, including shacks\, teepees\, buses\, and a lean-to on a stump. His colorful youth darkens\, however\, when his mother marries an alcoholic and abusive guerrilla/poet. \nThroughout it all\, Joshua yearns for a “normal” life\, but when he finally reenters society through school\, he finds “America” a difficult and confusing place. Years spent living in the wilderness and discussing Marxism have not prepared him for the Darwinian world of teenagers\, and he finds himself bullied and beaten by classmates who don’t share his mother’s belief about reveling in one’s differences. \nEventually\, Joshua finds the strength to fight back against his tormentors\, both in school and at home\, and helps his mother find peace. But Free Spirit is more than just a coming-of age story. It is also a journey of the spirit\, as he reconnects with his Jewish roots; a tale of overcoming adversity; and a captivating read about a childhood unlike any other.
URL:https://tba-ny.org/event/book-club-9/
LOCATION:Temple Beth Abraham\, 25 Leroy Avenue\, Tarrytown\, NY\, 10591\, United States
CATEGORIES:Adult Ed,Book Club
END:VEVENT
BEGIN:VEVENT
DTSTART;TZID=America/New_York:20140110T100000
DTEND;TZID=America/New_York:20140110T120000
DTSTAMP:20260420T094343
CREATED:20131114T182227Z
LAST-MODIFIED:20160509T010849Z
UID:2686-1389348000-1389355200@tba-ny.org
SUMMARY:Book Club
DESCRIPTION:Join us for a discussion of Rebecca Miller’s novel: “Jacob’s Folly”
URL:https://tba-ny.org/event/book-club-8/
LOCATION:Temple Beth Abraham\, 25 Leroy Avenue\, Tarrytown\, NY\, 10591\, United States
CATEGORIES:Adult Ed,Book Club
ORGANIZER;CN="Adult Ed.":MAILTO:adulted@tba-ny.org
END:VEVENT
BEGIN:VEVENT
DTSTART;TZID=America/New_York:20131108T100000
DTEND;TZID=America/New_York:20131108T120000
DTSTAMP:20260420T094343
CREATED:20131114T181716Z
LAST-MODIFIED:20160509T010849Z
UID:2685-1383904800-1383912000@tba-ny.org
SUMMARY:Book Club
DESCRIPTION:Author Andi Rosenthal joins us to discuss her book\, “The Bookseller’s Sonnets”
URL:https://tba-ny.org/event/book-club-7/
LOCATION:Temple Beth Abraham\, 25 Leroy Avenue\, Tarrytown\, NY\, 10591\, United States
CATEGORIES:Adult Ed,Book Club
ORGANIZER;CN="Adult Ed.":MAILTO:adulted@tba-ny.org
END:VEVENT
END:VCALENDAR