BEGIN:VCALENDAR
VERSION:2.0
PRODID:-//Temple Beth Abraham - ECPv6.15.20//NONSGML v1.0//EN
CALSCALE:GREGORIAN
METHOD:PUBLISH
X-WR-CALNAME:Temple Beth Abraham
X-ORIGINAL-URL:https://tba-ny.org
X-WR-CALDESC:Events for Temple Beth Abraham
REFRESH-INTERVAL;VALUE=DURATION:PT1H
X-Robots-Tag:noindex
X-PUBLISHED-TTL:PT1H
BEGIN:VTIMEZONE
TZID:America/New_York
BEGIN:DAYLIGHT
TZOFFSETFROM:-0500
TZOFFSETTO:-0400
TZNAME:EDT
DTSTART:20220313T070000
END:DAYLIGHT
BEGIN:STANDARD
TZOFFSETFROM:-0400
TZOFFSETTO:-0500
TZNAME:EST
DTSTART:20221106T060000
END:STANDARD
BEGIN:DAYLIGHT
TZOFFSETFROM:-0500
TZOFFSETTO:-0400
TZNAME:EDT
DTSTART:20230312T070000
END:DAYLIGHT
BEGIN:STANDARD
TZOFFSETFROM:-0400
TZOFFSETTO:-0500
TZNAME:EST
DTSTART:20231105T060000
END:STANDARD
BEGIN:DAYLIGHT
TZOFFSETFROM:-0500
TZOFFSETTO:-0400
TZNAME:EDT
DTSTART:20240310T070000
END:DAYLIGHT
BEGIN:STANDARD
TZOFFSETFROM:-0400
TZOFFSETTO:-0500
TZNAME:EST
DTSTART:20241103T060000
END:STANDARD
END:VTIMEZONE
BEGIN:VEVENT
DTSTART;TZID=America/New_York:20230919T193000
DTEND;TZID=America/New_York:20230919T203000
DTSTAMP:20260423T021432
CREATED:20230808T203229Z
LAST-MODIFIED:20230808T203229Z
UID:22290-1695151800-1695155400@tba-ny.org
SUMMARY:Board of Ed. Meeting (Zoom)
DESCRIPTION:The Temple Beth Abraham Board of Education is responsible for overseeing ourÊReligious School.\nThe Board meets monthly with the Religious School Director\, Rabbi and Cantor. \nTo attend this meeting\, please contact BoardOfEd@tba-ny.org
URL:https://tba-ny.org/event/board-of-ed-meeting-zoom-7/
LOCATION:Temple Beth Abraham\, 25 Leroy Avenue\, Tarrytown\, NY\, 10591\, United States
CATEGORIES:Board Of Ed
END:VEVENT
END:VCALENDAR