BEGIN:VCALENDAR
VERSION:2.0
PRODID:-//Temple Beth Abraham - ECPv6.15.20//NONSGML v1.0//EN
CALSCALE:GREGORIAN
METHOD:PUBLISH
X-WR-CALNAME:Temple Beth Abraham
X-ORIGINAL-URL:https://tba-ny.org
X-WR-CALDESC:Events for Temple Beth Abraham
REFRESH-INTERVAL;VALUE=DURATION:PT1H
X-Robots-Tag:noindex
X-PUBLISHED-TTL:PT1H
BEGIN:VTIMEZONE
TZID:America/New_York
BEGIN:DAYLIGHT
TZOFFSETFROM:-0500
TZOFFSETTO:-0400
TZNAME:EDT
DTSTART:20190310T070000
END:DAYLIGHT
BEGIN:STANDARD
TZOFFSETFROM:-0400
TZOFFSETTO:-0500
TZNAME:EST
DTSTART:20191103T060000
END:STANDARD
BEGIN:DAYLIGHT
TZOFFSETFROM:-0500
TZOFFSETTO:-0400
TZNAME:EDT
DTSTART:20200308T070000
END:DAYLIGHT
BEGIN:STANDARD
TZOFFSETFROM:-0400
TZOFFSETTO:-0500
TZNAME:EST
DTSTART:20201101T060000
END:STANDARD
BEGIN:DAYLIGHT
TZOFFSETFROM:-0500
TZOFFSETTO:-0400
TZNAME:EDT
DTSTART:20210314T070000
END:DAYLIGHT
BEGIN:STANDARD
TZOFFSETFROM:-0400
TZOFFSETTO:-0500
TZNAME:EST
DTSTART:20211107T060000
END:STANDARD
BEGIN:DAYLIGHT
TZOFFSETFROM:-0500
TZOFFSETTO:-0400
TZNAME:EDT
DTSTART:20220313T070000
END:DAYLIGHT
BEGIN:STANDARD
TZOFFSETFROM:-0400
TZOFFSETTO:-0500
TZNAME:EST
DTSTART:20221106T060000
END:STANDARD
END:VTIMEZONE
BEGIN:VEVENT
DTSTART;TZID=America/New_York:20210519T193000
DTEND;TZID=America/New_York:20210519T203000
DTSTAMP:20260420T152716
CREATED:20210406T234735Z
LAST-MODIFIED:20210406T234735Z
UID:16363-1621452600-1621456200@tba-ny.org
SUMMARY:Fiestaremos! A celebration of the music of Sephardim with Nell Snaidas (Zoom)
DESCRIPTION:The Sephardim (from Sepharad\, the Hebrew word for Spain) were given until the last week of July 1942 to gather themselves and “depart” from the land they had called their own for 1500 years. \nOur Zoom-fest will celebrate the Songs fo the Sephardim\, preserved for more than 500 years by oral tradition.  Sung in Ladino\, an ancient Castilian language – peppered with Hebrew and other languages of the diaspora\, these songs are filled with tales of exile and courtship\, family life\, weddings and pranks\, infections rhythm and haunting melodies. \nEmail adulted@tba-ny.org for the Zoom information
URL:https://tba-ny.org/event/fiestaremos-a-celebration-of-the-music-of-sephardim-with-nell-snaidas-zoom/
CATEGORIES:Adult Ed,Concert
ORGANIZER;CN="Adult Ed.":MAILTO:adulted@tba-ny.org
END:VEVENT
BEGIN:VEVENT
DTSTART;TZID=America/New_York:20210411T140000
DTEND;TZID=America/New_York:20210411T150000
DTSTAMP:20260420T152716
CREATED:20210406T160952Z
LAST-MODIFIED:20210406T163429Z
UID:16338-1618149600-1618153200@tba-ny.org
SUMMARY:Yom Ha'Atzmaut Across North America (Livestream) Concert
DESCRIPTION:Yom Ha’atzmaut Across North America is a live virtual concert experience hosted by “Hadar and Sheldon” and featuring some of the most recognizable names in Jewish music and leadership around the world.   In addition to a joyous celebration of Israeli music\, proceeds from Yom Ha’atzmaut Across America support Covid-19 relief. \nProceeds from the 2021 celebration benefit Mazon \nThe Israel Committee has purchased admission for the congregation. \nClick HERE to view the livestream. \n 
URL:https://tba-ny.org/event/yom-haatzmaut-across-north-america-livestream-concert/
CATEGORIES:Concert,Israel Committee
ORGANIZER;CN="Israel Committee":MAILTO:IsraelCommittee@tba-ny.org
END:VEVENT
BEGIN:VEVENT
DTSTART;TZID=America/New_York:20201217T200000
DTEND;TZID=America/New_York:20201217T210000
DTSTAMP:20260420T152716
CREATED:20201211T014437Z
LAST-MODIFIED:20201211T014437Z
UID:15692-1608235200-1608238800@tba-ny.org
SUMMARY:Noah Aronson's Festival Of Lightness: Closing Concert
DESCRIPTION: Temple Beth Abraham is so pleased to be able to invite you to join Noah Aronson for a week of Chanukah concerts and events. You will find the calendar and descriptions of the events below. You need to register for each event using the link listed for each event. For the concerts you can watch on YouTube.  \nThursday evening Closing Concert 8:00pm  \n“Bring Your Light To The World” Concert  \nAfter bursting with lightness from the week of growth and expansion\, Noah will perform a final concert of the festival in celebration of the 8th night of Chanukah.  \nRegister for Zoom: https://us02web.zoom.us/j/88462037951?pwd=QUhUTG9IbzZGZGtBSlQ1RDZvbTZpQT09  \nOr watch on Youtube Live: https://youtu.be/nHm5oXeVM2k 
URL:https://tba-ny.org/event/noah-aronsons-festival-of-lightness-closing-concert/
CATEGORIES:Concert
END:VEVENT
BEGIN:VEVENT
DTSTART;TZID=America/New_York:20201216T150000
DTEND;TZID=America/New_York:20201216T153000
DTSTAMP:20260420T152716
CREATED:20201211T014330Z
LAST-MODIFIED:20201211T014330Z
UID:15691-1608130800-1608132600@tba-ny.org
SUMMARY:Noah Aronson's Festival Of Lightness: Prayer workshop and text study
DESCRIPTION: Temple Beth Abraham is so pleased to be able to invite you to join Noah Aronson for a week of Chanukah concerts and events. You will find the calendar and descriptions of the events below. You need to register for each event using the link listed for each event. For the concerts you can watch on YouTube.  \nWednesday afternoon – “Prayer workshop and text study” 3:00pm  \nTorah Aura  \nStudying texts together brings us closer and give us a window into our deepest selves. Noah will pull from various source material to lead a 30-minute text study on discovering ourselves in our sacred scriptures.  \nRegister for Zoom: https://us02web.zoom.us/j/84969521745?pwd=YS9MbEZzcUZQVlBNdW11SDFDcllhZz09 
URL:https://tba-ny.org/event/noah-aronsons-festival-of-lightness-prayer-workshop-and-text-study/
CATEGORIES:Concert
END:VEVENT
BEGIN:VEVENT
DTSTART;TZID=America/New_York:20201215T150000
DTEND;TZID=America/New_York:20201215T153000
DTSTAMP:20260420T152716
CREATED:20201211T014156Z
LAST-MODIFIED:20201211T014235Z
UID:15693-1608044400-1608046200@tba-ny.org
SUMMARY:Noah Aronson's Festival Of Lightness: “Getting Creative” workshop
DESCRIPTION: Temple Beth Abraham is so pleased to be able to invite you to join Noah Aronson for a week of Chanukah concerts and events. You will find the calendar and descriptions of the events below. You need to register for each event using the link listed for each event. For the concerts you can watch on YouTube.  \nTuesday afternoon – “Getting Creative” workshop 3:00pm  \nFinding Your Light: A Workshop on Getting Creative  \nHow do you tap into your flow state and get creative? Getting into a state of flow is essential for anyone seeking to think and become more creative. Many think that flow state is random\, but it can actually be tapped into at will.  \nNoah will lead a 30-minute workshop on his creative practices and rituals using techniques developed for his new BeMajor Academy for Creatives.  \nRegister for Zoom: https://us02web.zoom.us/j/83500496624?pwd=a0FsUldGQTgwSlRxZ2MrSEt4Y0M4UT09 
URL:https://tba-ny.org/event/noah-aronsons-festival-of-lightness-getting-creative-workshop/
CATEGORIES:Concert
END:VEVENT
BEGIN:VEVENT
DTSTART;TZID=America/New_York:20201214T150000
DTEND;TZID=America/New_York:20201214T153000
DTSTAMP:20260420T152716
CREATED:20201211T014042Z
LAST-MODIFIED:20201211T014212Z
UID:15690-1607958000-1607959800@tba-ny.org
SUMMARY:Noah Aronson's Festival Of Lightness: Meditation and movement workshop
DESCRIPTION: Temple Beth Abraham is so pleased to be able to invite you to join Noah Aronson for a week of Chanukah concerts and events. You will find the calendar and descriptions of the events below. You need to register for each event using the link listed for each event. For the concerts you can watch on YouTube.  \nMonday afternoon – Meditation and movement workshop 3:00pm  \nLightness of Being Meditation  \nCome for 30 minutes of mindful practice designed to move your body towards your lightest\, most joyful self. When we tap into a state of lightness in our own lives\, we can more easily move to share that light with the world around us.  \nRegister for Zoom: https://us02web.zoom.us/j/83912092910?pwd=ZHR4U1J4WGZYSitSU0NRQ1NHQkhadz09 
URL:https://tba-ny.org/event/noah-aronsons-festival-of-lightness-meditation-and-movement-workshop/
CATEGORIES:Concert
END:VEVENT
BEGIN:VEVENT
DTSTART;TZID=America/New_York:20201213T160000
DTEND;TZID=America/New_York:20201213T170000
DTSTAMP:20260420T152716
CREATED:20201211T013917Z
LAST-MODIFIED:20201211T014001Z
UID:15689-1607875200-1607878800@tba-ny.org
SUMMARY:Noah Aronson's Festival Of Lightness:  Family event and Chanukah sing-along
DESCRIPTION: Temple Beth Abraham is so pleased to be able to invite you to join Noah Aronson for a week of Chanukah concerts and events. You will find the calendar and descriptions of the events below. You need to register for each event using the link listed for each event. For the concerts you can watch on YouTube.  \n Sunday afternoon – Family event and Chanukah sing-along 4:00pm  \nGetting Goofy With It: A Family Sing-Along  \nAll are welcome to join Noah as he leads a Chanukah sing-a-long with family friendly songs both new and old to celebrate the 4th night of Chanukah together.  \nRegister for Zoom: https://us02web.zoom.us/j/89978849835?pwd=bGNpN0JtdTBnNmJablhkbWFqWjBwQT09  \nOr watch on Youtube Live: https://youtu.be/7jbbiMomnZg 
URL:https://tba-ny.org/event/noah-aronsons-festival-of-lightness-sunday-afternoon-family-event-and-chanukah-sing-along/
CATEGORIES:Concert
END:VEVENT
BEGIN:VEVENT
DTSTART;TZID=America/New_York:20201212T210000
DTEND;TZID=America/New_York:20201212T220000
DTSTAMP:20260420T152716
CREATED:20201211T013702Z
LAST-MODIFIED:20201211T014011Z
UID:15687-1607806800-1607810400@tba-ny.org
SUMMARY:Noah Aronson's Festival Of Lightness: Opening Night Concert
DESCRIPTION: Temple Beth Abraham is so pleased to be able to invite you to join Noah Aronson for a week of Chanukah concerts and events. You will find the calendar and descriptions of the events below. You need to register for each event using the link listed for each event. For the concerts you can watch on YouTube.  \nSaturday night – Opening Concert 9:00pm  \n“Let’s Light Up The World” Concert  \nCome Celebrate the 3rd night of Chanukah and the end of Shabbat with a 45- minute live virtual concert.  \nJoin Noah to help bring more lightness and joy into your week.  \nRegister for Zoom: https://us02web.zoom.us/j/82074699378?pwd=S0k5dndxR3RDZkZqcHBZNVlDektJdz09  \nOr watch on Youtube Live: https://youtu.be/jLyUkAg9xI4 
URL:https://tba-ny.org/event/noah-aronsons-festival-of-lightness/
CATEGORIES:Concert
END:VEVENT
END:VCALENDAR