BEGIN:VCALENDAR
VERSION:2.0
PRODID:-//Temple Beth Abraham - ECPv6.15.20//NONSGML v1.0//EN
CALSCALE:GREGORIAN
METHOD:PUBLISH
X-WR-CALNAME:Temple Beth Abraham
X-ORIGINAL-URL:https://tba-ny.org
X-WR-CALDESC:Events for Temple Beth Abraham
REFRESH-INTERVAL;VALUE=DURATION:PT1H
X-Robots-Tag:noindex
X-PUBLISHED-TTL:PT1H
BEGIN:VTIMEZONE
TZID:America/New_York
BEGIN:DAYLIGHT
TZOFFSETFROM:-0500
TZOFFSETTO:-0400
TZNAME:EDT
DTSTART:20220313T070000
END:DAYLIGHT
BEGIN:STANDARD
TZOFFSETFROM:-0400
TZOFFSETTO:-0500
TZNAME:EST
DTSTART:20221106T060000
END:STANDARD
BEGIN:DAYLIGHT
TZOFFSETFROM:-0500
TZOFFSETTO:-0400
TZNAME:EDT
DTSTART:20230312T070000
END:DAYLIGHT
BEGIN:STANDARD
TZOFFSETFROM:-0400
TZOFFSETTO:-0500
TZNAME:EST
DTSTART:20231105T060000
END:STANDARD
BEGIN:DAYLIGHT
TZOFFSETFROM:-0500
TZOFFSETTO:-0400
TZNAME:EDT
DTSTART:20240310T070000
END:DAYLIGHT
BEGIN:STANDARD
TZOFFSETFROM:-0400
TZOFFSETTO:-0500
TZNAME:EST
DTSTART:20241103T060000
END:STANDARD
BEGIN:DAYLIGHT
TZOFFSETFROM:-0500
TZOFFSETTO:-0400
TZNAME:EDT
DTSTART:20250309T070000
END:DAYLIGHT
BEGIN:STANDARD
TZOFFSETFROM:-0400
TZOFFSETTO:-0500
TZNAME:EST
DTSTART:20251102T060000
END:STANDARD
BEGIN:DAYLIGHT
TZOFFSETFROM:-0500
TZOFFSETTO:-0400
TZNAME:EDT
DTSTART:20260308T070000
END:DAYLIGHT
BEGIN:STANDARD
TZOFFSETFROM:-0400
TZOFFSETTO:-0500
TZNAME:EST
DTSTART:20261101T060000
END:STANDARD
END:VTIMEZONE
BEGIN:VEVENT
DTSTART;TZID=America/New_York:20250507T190000
DTEND;TZID=America/New_York:20250507T203000
DTSTAMP:20260420T145752
CREATED:20250405T154728Z
LAST-MODIFIED:20250507T162924Z
UID:25569-1746644400-1746649800@tba-ny.org
SUMMARY:CANCELED:  LGBTQIA+ Allyship in Action: A Panel Discussion
DESCRIPTION:Temple Beth Abraham’s JEDI (Justice\, Equity\, Diversity & Inclusion) Council presents a panel discussion with speakers from Center Lane\, Keshet\, and TBA’s own Holly Holtz. \nLearn about what actions can be taken now to protect and support our LGBTQIA+ family\, friends & neighbors. \nThis event is open to ALL allies\, of every background ages 13+\, in the Westchester area and beyond. \nVisitors are asked to preregister with the Temple Office at (914) 631-1770 or online at: https://bit.ly/TBA-JEDI-Allyship\nWe appreciate your understanding and cooperation in helping us maintain a safe and welcoming space for all. \nCosponsored by Temple Beth Abraham\, WJCS Center Lane\, Keshet and the Westchester Jewish Council
URL:https://tba-ny.org/event/lgbtqia-allyship-in-action-a-panel-discussion/
CATEGORIES:J.E.D.I. Council
END:VEVENT
BEGIN:VEVENT
DTSTART;TZID=America/New_York:20231130T193000
DTEND;TZID=America/New_York:20231130T193000
DTSTAMP:20260420T145752
CREATED:20231028T210719Z
LAST-MODIFIED:20231028T210719Z
UID:22880-1701372600-1701372600@tba-ny.org
SUMMARY:Jews of Color with Dr. Laura Leibman (on Zoom)
DESCRIPTION:Temple Beth AbrahamÕs Adult Education and JEDI (Justice\, Equality\, Diversity\, Inclusion) Committees Present:Jews of Color with Dr. Laura Leibman\nThursday\, November 30\,  7:30pm on Zoom\nToday multiracial Jews comprise up to 10-25% of Jewish population in parts of the United States\, with nearly 87\,000 nonwhite\, Hispanic\, or multiracial Jewish households in the New York area alone. Most people tend to think of multiracial as a fairly recent phenomenon\, but in this talk Professor Leibman reveals the early history of multiracial Jews in the United States and Caribbean and explains how their stories got lost in common tellings of Jewish American\nhistory.\nLaura Arnold Leibman is the William R. Kenan Jr. Professor of English and Humanities at Reed College\, Vice President of Program (AJS)\, and the author of The Art of the Jewish Family: A History of Women in Early New York in Five Objects (Bard Graduate Center\, 2020)\, Once We Were Slaves (Oxford UP\, 2021) and\, Jews Across the Americas 1492-present: A Sourcebook\, co-edited with Adriana Brodsky which was released September 2023 from NYU Press.\nTo register: bit.ly/JewsOfColor-TBA
URL:https://tba-ny.org/event/jews-of-color-with-dr-laura-leibman-on-zoom/
LOCATION:Temple Beth Abraham\, 25 Leroy Avenue\, Tarrytown\, NY\, 10591\, United States
CATEGORIES:Adult Ed,J.E.D.I. Council
ORGANIZER;CN="Adult Ed.":MAILTO:adulted@tba-ny.org
END:VEVENT
END:VCALENDAR