BEGIN:VCALENDAR
VERSION:2.0
PRODID:-//Temple Beth Abraham - ECPv6.15.20//NONSGML v1.0//EN
CALSCALE:GREGORIAN
METHOD:PUBLISH
X-WR-CALNAME:Temple Beth Abraham
X-ORIGINAL-URL:https://tba-ny.org
X-WR-CALDESC:Events for Temple Beth Abraham
REFRESH-INTERVAL;VALUE=DURATION:PT1H
X-Robots-Tag:noindex
X-PUBLISHED-TTL:PT1H
BEGIN:VTIMEZONE
TZID:America/New_York
BEGIN:DAYLIGHT
TZOFFSETFROM:-0500
TZOFFSETTO:-0400
TZNAME:EDT
DTSTART:20220313T070000
END:DAYLIGHT
BEGIN:STANDARD
TZOFFSETFROM:-0400
TZOFFSETTO:-0500
TZNAME:EST
DTSTART:20221106T060000
END:STANDARD
BEGIN:DAYLIGHT
TZOFFSETFROM:-0500
TZOFFSETTO:-0400
TZNAME:EDT
DTSTART:20230312T070000
END:DAYLIGHT
BEGIN:STANDARD
TZOFFSETFROM:-0400
TZOFFSETTO:-0500
TZNAME:EST
DTSTART:20231105T060000
END:STANDARD
BEGIN:DAYLIGHT
TZOFFSETFROM:-0500
TZOFFSETTO:-0400
TZNAME:EDT
DTSTART:20240310T070000
END:DAYLIGHT
BEGIN:STANDARD
TZOFFSETFROM:-0400
TZOFFSETTO:-0500
TZNAME:EST
DTSTART:20241103T060000
END:STANDARD
END:VTIMEZONE
BEGIN:VEVENT
DTSTART;TZID=America/New_York:20230306T180000
DTEND;TZID=America/New_York:20230306T190000
DTSTAMP:20260422T211216
CREATED:20230214T173735Z
LAST-MODIFIED:20230214T173735Z
UID:21180-1678125600-1678129200@tba-ny.org
SUMMARY:Purim Dinner (by reservation)
DESCRIPTION:Join us for Purim Dinner at 6:00pmfollowed by Reform Purim Service and Shpiel at 7:00pm \nAdults: $20.00 each\nChildren (ages 2-18): FREE!  \nDinner menu is Dairy.\nReservations must be made by Tuesday\, February 28.\nTo make a reservation online\, go to: https://bit.ly/PurimDinner23 or call the office at (914) 631-1770.
URL:https://tba-ny.org/event/purim-dinner-by-reservation/
LOCATION:Temple Beth Abraham\, 25 Leroy Avenue\, Tarrytown\, NY\, 10591\, United States
CATEGORIES:Dinner
ORGANIZER;CN="Ritual":MAILTO:ritual@tba-ny.org
END:VEVENT
END:VCALENDAR