BEGIN:VCALENDAR
VERSION:2.0
PRODID:-//Temple Beth Abraham - ECPv6.15.20//NONSGML v1.0//EN
CALSCALE:GREGORIAN
METHOD:PUBLISH
X-ORIGINAL-URL:https://tba-ny.org
X-WR-CALDESC:Events for Temple Beth Abraham
REFRESH-INTERVAL;VALUE=DURATION:PT1H
X-Robots-Tag:noindex
X-PUBLISHED-TTL:PT1H
BEGIN:VTIMEZONE
TZID:America/New_York
BEGIN:DAYLIGHT
TZOFFSETFROM:-0500
TZOFFSETTO:-0400
TZNAME:EDT
DTSTART:20230312T070000
END:DAYLIGHT
BEGIN:STANDARD
TZOFFSETFROM:-0400
TZOFFSETTO:-0500
TZNAME:EST
DTSTART:20231105T060000
END:STANDARD
BEGIN:DAYLIGHT
TZOFFSETFROM:-0500
TZOFFSETTO:-0400
TZNAME:EDT
DTSTART:20240310T070000
END:DAYLIGHT
BEGIN:STANDARD
TZOFFSETFROM:-0400
TZOFFSETTO:-0500
TZNAME:EST
DTSTART:20241103T060000
END:STANDARD
BEGIN:DAYLIGHT
TZOFFSETFROM:-0500
TZOFFSETTO:-0400
TZNAME:EDT
DTSTART:20250309T070000
END:DAYLIGHT
BEGIN:STANDARD
TZOFFSETFROM:-0400
TZOFFSETTO:-0500
TZNAME:EST
DTSTART:20251102T060000
END:STANDARD
END:VTIMEZONE
BEGIN:VEVENT
DTSTART;TZID=America/New_York:20240323T180000
DTEND;TZID=America/New_York:20240323T190000
DTSTAMP:20260422T035312
CREATED:20240210T012146Z
LAST-MODIFIED:20240210T012146Z
UID:23377-1711216800-1711220400@tba-ny.org
SUMMARY:Purim Dinner (by reservation)
DESCRIPTION:Join us for  Purim Dinner at 6:00pm followed by Reform Purim Service and Shpiel at 7:00pm\n$18.00 each\nMaximum per family: $54.00 \nDinner menu is Dairy.\nReservations must be made by Tuesday\, March 19. \nTo make a reservation online\, go to: https://bit.ly/PurimDinner24 or call the office at (914) 631-1770.
URL:https://tba-ny.org/event/purim-dinner-by-reservation-2/
LOCATION:Temple Beth Abraham\, 25 Leroy Avenue\, Tarrytown\, NY\, 10591\, United States
CATEGORIES:Dinner,Ritual Committee
ORGANIZER;CN="Ritual":MAILTO:ritual@tba-ny.org
END:VEVENT
END:VCALENDAR