BEGIN:VCALENDAR
VERSION:2.0
PRODID:-//Temple Beth Abraham - ECPv6.15.20//NONSGML v1.0//EN
CALSCALE:GREGORIAN
METHOD:PUBLISH
X-ORIGINAL-URL:https://tba-ny.org
X-WR-CALDESC:Events for Temple Beth Abraham
REFRESH-INTERVAL;VALUE=DURATION:PT1H
X-Robots-Tag:noindex
X-PUBLISHED-TTL:PT1H
BEGIN:VTIMEZONE
TZID:America/New_York
BEGIN:DAYLIGHT
TZOFFSETFROM:-0500
TZOFFSETTO:-0400
TZNAME:EDT
DTSTART:20230312T070000
END:DAYLIGHT
BEGIN:STANDARD
TZOFFSETFROM:-0400
TZOFFSETTO:-0500
TZNAME:EST
DTSTART:20231105T060000
END:STANDARD
BEGIN:DAYLIGHT
TZOFFSETFROM:-0500
TZOFFSETTO:-0400
TZNAME:EDT
DTSTART:20240310T070000
END:DAYLIGHT
BEGIN:STANDARD
TZOFFSETFROM:-0400
TZOFFSETTO:-0500
TZNAME:EST
DTSTART:20241103T060000
END:STANDARD
BEGIN:DAYLIGHT
TZOFFSETFROM:-0500
TZOFFSETTO:-0400
TZNAME:EDT
DTSTART:20250309T070000
END:DAYLIGHT
BEGIN:STANDARD
TZOFFSETFROM:-0400
TZOFFSETTO:-0500
TZNAME:EST
DTSTART:20251102T060000
END:STANDARD
END:VTIMEZONE
BEGIN:VEVENT
DTSTART;VALUE=DATE:20241017
DTEND;VALUE=DATE:20241024
DTSTAMP:20260422T002514
CREATED:20241007T005805Z
LAST-MODIFIED:20241007T005805Z
UID:24837-1729123200-1729727999@tba-ny.org
SUMMARY:Sukkot Clothing Drive to benefit Community Wardrobe
DESCRIPTION:During the week of Sukkot\, look for donation bins in the sukkah at TBA. \nWe will be collecting donated items to support Community Wardrobe. \nItems we are looking for include: fall/winter clothing for men\, women\, and children; coats; gloves; shoes; boots; handbags; duffels; costume jewelry; reading glasses; underwear\, bras and socks (new only). \nPlease email tikkunolam@tba-ny.org with any questions \n  \nCommunity Wardrobe is a 501(c)(3) charitable organization
URL:https://tba-ny.org/event/sukkot-clothing-drive-to-benefit-community-wardrobe/
CATEGORIES:Tikkun Olam
ORGANIZER;CN="Tikkun Olam":MAILTO:TikkunOlam@tba-ny.org
END:VEVENT
END:VCALENDAR