BEGIN:VCALENDAR
VERSION:2.0
PRODID:-//Temple Beth Abraham - ECPv6.15.20//NONSGML v1.0//EN
CALSCALE:GREGORIAN
METHOD:PUBLISH
X-WR-CALNAME:Temple Beth Abraham
X-ORIGINAL-URL:https://tba-ny.org
X-WR-CALDESC:Events for Temple Beth Abraham
REFRESH-INTERVAL;VALUE=DURATION:PT1H
X-Robots-Tag:noindex
X-PUBLISHED-TTL:PT1H
BEGIN:VTIMEZONE
TZID:America/New_York
BEGIN:DAYLIGHT
TZOFFSETFROM:-0500
TZOFFSETTO:-0400
TZNAME:EDT
DTSTART:20120311T070000
END:DAYLIGHT
BEGIN:STANDARD
TZOFFSETFROM:-0400
TZOFFSETTO:-0500
TZNAME:EST
DTSTART:20121104T060000
END:STANDARD
BEGIN:DAYLIGHT
TZOFFSETFROM:-0500
TZOFFSETTO:-0400
TZNAME:EDT
DTSTART:20130310T070000
END:DAYLIGHT
BEGIN:STANDARD
TZOFFSETFROM:-0400
TZOFFSETTO:-0500
TZNAME:EST
DTSTART:20131103T060000
END:STANDARD
BEGIN:DAYLIGHT
TZOFFSETFROM:-0500
TZOFFSETTO:-0400
TZNAME:EDT
DTSTART:20140309T070000
END:DAYLIGHT
BEGIN:STANDARD
TZOFFSETFROM:-0400
TZOFFSETTO:-0500
TZNAME:EST
DTSTART:20141102T060000
END:STANDARD
BEGIN:DAYLIGHT
TZOFFSETFROM:-0500
TZOFFSETTO:-0400
TZNAME:EDT
DTSTART:20150308T070000
END:DAYLIGHT
BEGIN:STANDARD
TZOFFSETFROM:-0400
TZOFFSETTO:-0500
TZNAME:EST
DTSTART:20151101T060000
END:STANDARD
BEGIN:DAYLIGHT
TZOFFSETFROM:-0500
TZOFFSETTO:-0400
TZNAME:EDT
DTSTART:20160313T070000
END:DAYLIGHT
BEGIN:STANDARD
TZOFFSETFROM:-0400
TZOFFSETTO:-0500
TZNAME:EST
DTSTART:20161106T060000
END:STANDARD
BEGIN:DAYLIGHT
TZOFFSETFROM:-0500
TZOFFSETTO:-0400
TZNAME:EDT
DTSTART:20170312T070000
END:DAYLIGHT
BEGIN:STANDARD
TZOFFSETFROM:-0400
TZOFFSETTO:-0500
TZNAME:EST
DTSTART:20171105T060000
END:STANDARD
BEGIN:DAYLIGHT
TZOFFSETFROM:-0500
TZOFFSETTO:-0400
TZNAME:EDT
DTSTART:20180311T070000
END:DAYLIGHT
BEGIN:STANDARD
TZOFFSETFROM:-0400
TZOFFSETTO:-0500
TZNAME:EST
DTSTART:20181104T060000
END:STANDARD
END:VTIMEZONE
BEGIN:VEVENT
DTSTART;TZID=America/New_York:20170507T111500
DTEND;TZID=America/New_York:20170507T120000
DTSTAMP:20260423T055903
CREATED:20170430T022626Z
LAST-MODIFIED:20170430T022626Z
UID:6876-1494155700-1494158400@tba-ny.org
SUMMARY:Annual Pet Blessing and Pet Food Drive
DESCRIPTION:oin us for TBA’s 3rd Annual Pet Blessing and Pet Food Drive on Sunday\, May 7 after the Tikkun Olam planning meeting.  We will meet on the front lawn near the flag pole\, weather permitting. \n            The Pet Food Drive supports The Hudson Valley Pet Food Pantry \n            Bring your pet to TBA to be blessed.  If your pet doesn’t travel well or get along with other pets\, please bring a photo instead.  Dogs must be leashed. \n            What to donate: Friskies wet and dry or Fancy Feast cat food; Pedigree\, Purina 1\, or Mighty Dog dog food; Reusable bags.  Please go to www.hvpetfoodpantry.org for a full list of needed items.
URL:https://tba-ny.org/event/annual-pet-blessing-pet-food-drive/
LOCATION:Temple Beth Abraham\, 25 Leroy Avenue\, Tarrytown\, NY\, 10591\, United States
CATEGORIES:Tikkun Olam
ORGANIZER;CN="Tikkun Olam":MAILTO:TikkunOlam@tba-ny.org
END:VEVENT
BEGIN:VEVENT
DTSTART;TZID=America/New_York:20170507T093000
DTEND;TZID=America/New_York:20170507T103000
DTSTAMP:20260423T055903
CREATED:20170430T022438Z
LAST-MODIFIED:20170430T022438Z
UID:6874-1494149400-1494153000@tba-ny.org
SUMMARY:Tikkun Olam Committee Meeting
DESCRIPTION:
URL:https://tba-ny.org/event/tikkun-olam-committee-meeting/
LOCATION:Temple Beth Abraham\, 25 Leroy Avenue\, Tarrytown\, NY\, 10591\, United States
CATEGORIES:Tikkun Olam
ORGANIZER;CN="Tikkun Olam":MAILTO:TikkunOlam@tba-ny.org
END:VEVENT
BEGIN:VEVENT
DTSTART;TZID=America/New_York:20161202T103000
DTEND;TZID=America/New_York:20161202T120000
DTSTAMP:20260423T055903
CREATED:20160814T183617Z
LAST-MODIFIED:20160814T183617Z
UID:5917-1480674600-1480680000@tba-ny.org
SUMMARY:Crafts for a Cause
DESCRIPTION:Meetings usually take place at Temple Beth Abraham\, but are subject to change. \nPlease call/email CraftsforaCause@tba-ny.org for up to date information.
URL:https://tba-ny.org/event/crafts-for-a-cause-3/
LOCATION:Temple Beth Abraham\, 25 Leroy Avenue\, Tarrytown\, NY\, 10591\, United States
CATEGORIES:Tikkun Olam
ORGANIZER;CN="Tikkun Olam":MAILTO:TikkunOlam@tba-ny.org
END:VEVENT
BEGIN:VEVENT
DTSTART;TZID=America/New_York:20161028T103000
DTEND;TZID=America/New_York:20161028T120000
DTSTAMP:20260423T055903
CREATED:20160814T183650Z
LAST-MODIFIED:20160814T183650Z
UID:5916-1477650600-1477656000@tba-ny.org
SUMMARY:Crafts for a Cause
DESCRIPTION:Meetings usually take place at Temple Beth Abraham\, but are subject to change. \nPlease call/email CraftsforaCause@tba-ny.org for up to date information.
URL:https://tba-ny.org/event/crafts-for-a-cause-4/
LOCATION:Temple Beth Abraham\, 25 Leroy Avenue\, Tarrytown\, NY\, 10591\, United States
CATEGORIES:Tikkun Olam
ORGANIZER;CN="Tikkun Olam":MAILTO:TikkunOlam@tba-ny.org
END:VEVENT
BEGIN:VEVENT
DTSTART;TZID=America/New_York:20160930T103000
DTEND;TZID=America/New_York:20160930T120000
DTSTAMP:20260423T055903
CREATED:20160814T183441Z
LAST-MODIFIED:20160814T183441Z
UID:5915-1475231400-1475236800@tba-ny.org
SUMMARY:Crafts for a Cause
DESCRIPTION:Meetings usually take place at Temple Beth Abraham\, but are subject to change. \nPlease call/email CraftsforaCause@tba-ny.org for up to date information.
URL:https://tba-ny.org/event/crafts-for-a-cause-2/
LOCATION:Temple Beth Abraham\, 25 Leroy Avenue\, Tarrytown\, NY\, 10591\, United States
CATEGORIES:Tikkun Olam
ORGANIZER;CN="Tikkun Olam":MAILTO:TikkunOlam@tba-ny.org
END:VEVENT
BEGIN:VEVENT
DTSTART;TZID=America/New_York:20160925T110000
DTEND;TZID=America/New_York:20160925T120000
DTSTAMP:20260423T055903
CREATED:20160814T184322Z
LAST-MODIFIED:20160814T191048Z
UID:5919-1474801200-1474804800@tba-ny.org
SUMMARY:Fill a Backpack
DESCRIPTION:Join us to fill a backpack for the children of La Asociación. \nSupplies may be purchased for $18/backpack at tba-ny.org/tikkun-olam
URL:https://tba-ny.org/event/fill-a-backpack/
LOCATION:Temple Beth Abraham\, 25 Leroy Avenue\, Tarrytown\, NY\, 10591\, United States
CATEGORIES:Tikkun Olam
ORGANIZER;CN="Tikkun Olam":MAILTO:TikkunOlam@tba-ny.org
END:VEVENT
BEGIN:VEVENT
DTSTART;TZID=America/New_York:20160923T130000
DTEND;TZID=America/New_York:20160923T150000
DTSTAMP:20260423T055903
CREATED:20160814T184108Z
LAST-MODIFIED:20160830T014321Z
UID:5918-1474635600-1474642800@tba-ny.org
SUMMARY:Knit-a-Thon Baby Blankets "due"
DESCRIPTION:The final drop-off date for the baby blankets made for the Engage Jewish Service Corps of Westchester Knit/Crochet-A-Thon is September 23 at Woodlands Community Temple from 1:00PM to 3:00PM \nEngage is a UJA-Federation of New York initiative for baby boomers and beyond. \nKnit-a-thon participating synagogues – Woodlands Community Temple\, Temple Shaaray Tefila\, Congregation Emanu-El of Westchester\, and Temple Beth Abraham
URL:https://tba-ny.org/event/knit-thon-baby-blankets-due/
LOCATION:Woodlands Community Temple\, 50 Worthington Road\, White Plains\, NY\, 10607\, United States
CATEGORIES:Tikkun Olam
ORGANIZER;CN="Tikkun Olam":MAILTO:TikkunOlam@tba-ny.org
END:VEVENT
BEGIN:VEVENT
DTSTART;TZID=America/New_York:20160515T110000
DTEND;TZID=America/New_York:20160515T120000
DTSTAMP:20260423T055903
CREATED:20160419T231155Z
LAST-MODIFIED:20160419T231155Z
UID:5547-1463310000-1463313600@tba-ny.org
SUMMARY:Pet Blessing and Pet Food Drive
DESCRIPTION:  \nWeather permitting\, bring your pet to TBA to be blessed on our front lawn. If your pet doesn’t travel well or get along with other animals\, feel free to bring a photo instead. Dogs MUST be leashed. Please bring pet food or reusable bags to donate to a local pet shelter. For more information\, email tikkunolam@tba-ny.org.
URL:https://tba-ny.org/event/pet-blessing-and-pet-food-drive/
LOCATION:Temple Beth Abraham\, 25 Leroy Avenue\, Tarrytown\, NY\, 10591\, United States
CATEGORIES:Tikkun Olam
ORGANIZER;CN="Tikkun Olam":MAILTO:TikkunOlam@tba-ny.org
END:VEVENT
BEGIN:VEVENT
DTSTART;TZID=America/New_York:20160131T100000
DTEND;TZID=America/New_York:20160131T113000
DTSTAMP:20260423T055903
CREATED:20160103T013025Z
LAST-MODIFIED:20160103T022716Z
UID:5254-1454234400-1454239800@tba-ny.org
SUMMARY:Dorot Winter Package Delivery
DESCRIPTION:For further details contact Tikkun Olam at tikkunolam@tba-ny.org or go to: http://goo.gl/u70ssh
URL:https://tba-ny.org/event/dorot-winter-package-delivery/
LOCATION:Temple Beth Abraham\, 25 Leroy Avenue\, Tarrytown\, NY\, 10591\, United States
CATEGORIES:Tikkun Olam
ORGANIZER;CN="Tikkun Olam":MAILTO:TikkunOlam@tba-ny.org
END:VEVENT
BEGIN:VEVENT
DTSTART;TZID=America/New_York:20150125T100000
DTEND;TZID=America/New_York:20150125T113000
DTSTAMP:20260423T055903
CREATED:20150115T221940Z
LAST-MODIFIED:20150115T221940Z
UID:3778-1422180000-1422185400@tba-ny.org
SUMMARY:DOROT’s Winter Package Delivery
DESCRIPTION:Warm up a Senior’s day!  Deliver a package and visit with an older person. \nDeliver a package and visit with an older person. \n\nOrientations at 10:30 AM and 11:00 AM\nThere will be arts & crafts for the kids!\n\nPLEASE NOTE:\nALL Volunteers must bring photo ID to participate. Your ID number will be recorded. \nTo visit the same senior you may have already met through DOROT\, request a PRE–MATCH. \nRegister  \n 
URL:https://tba-ny.org/event/dorots-winter-package-delivery/
LOCATION:Temple Beth Abraham\, 25 Leroy Avenue\, Tarrytown\, NY\, 10591\, United States
CATEGORIES:Tikkun Olam
END:VEVENT
BEGIN:VEVENT
DTSTART;TZID=America/New_York:20140518T120000
DTEND;TZID=America/New_York:20140518T133000
DTSTAMP:20260423T055903
CREATED:20140216T150733Z
LAST-MODIFIED:20140509T022708Z
UID:2866-1400414400-1400419800@tba-ny.org
SUMMARY:Rabbi Israel "Si" Dresner program
DESCRIPTION:http://www.thejewishweek.com/arts/film/rabbi_was_freedom_rider \nSpend some time with history… Rabbi Israel “Si” Dresner\, activist and Freedom rider\, will speak at Temple Beth Abraham about his experience as a lifetime civil rights activist. Rabbi Dresner was one of the original Freedom Riders of the early 1960’s. He worked and walked alongside the Rev. Dr. Martin Luther King\, Jr. to confront and oppose racism and segregation in the south. \nReservations requested. There is no charge for this event \nDonations gratefully accepted  \nCo‐sponsored by Adult Education and Tikkun Olam Committees
URL:https://tba-ny.org/event/rabbi-israel-si-dresner-program/
LOCATION:Temple Beth Abraham\, 25 Leroy Avenue\, Tarrytown\, NY\, 10591\, United States
CATEGORIES:Adult Ed,Israel Committee,Member Services,Tikkun Olam
END:VEVENT
BEGIN:VEVENT
DTSTART;TZID=America/New_York:20140427T123000
DTEND;TZID=America/New_York:20140427T143000
DTSTAMP:20260423T055903
CREATED:20140422T182107Z
LAST-MODIFIED:20140422T182455Z
UID:3010-1398601800-1398609000@tba-ny.org
SUMMARY:Peabody Preserve Cleanup
DESCRIPTION:Please email tikkunolam@tba-ny.org  to RSVP \nWe need 20-30 people of all ages!
URL:https://tba-ny.org/event/peabody-preserve-cleanup/
LOCATION:Unnamed Venue\, AK\, United States
CATEGORIES:Tikkun Olam
ORGANIZER;CN="Tikkun Olam":MAILTO:TikkunOlam@tba-ny.org
END:VEVENT
BEGIN:VEVENT
DTSTART;TZID=America/New_York:20131110T090000
DTEND;TZID=America/New_York:20131110T130000
DTSTAMP:20260423T055903
CREATED:20130916T023743Z
LAST-MODIFIED:20130916T023743Z
UID:2574-1384074000-1384088400@tba-ny.org
SUMMARY:Latke-teeny
DESCRIPTION:
URL:https://tba-ny.org/event/latke-teeny/
LOCATION:Temple Beth Abraham\, 25 Leroy Avenue\, Tarrytown\, NY\, 10591\, United States
CATEGORIES:Adult Ed,Israel Committee,Member Services,Religious School,Tikkun Olam
END:VEVENT
BEGIN:VEVENT
DTSTART;TZID=America/New_York:20131024T163000
DTEND;TZID=America/New_York:20131024T180000
DTSTAMP:20260423T055903
CREATED:20130916T022934Z
LAST-MODIFIED:20150516T154639Z
UID:2571-1382632200-1382637600@tba-ny.org
SUMMARY:COC Dinner
DESCRIPTION:TBA is Cooking for Senior Citizens at the COC! \nHelp us feed about 50 Senior Citizens \nWe will need chicken\, salad\, bread\, desserts\, drinks and more \nCommunity Opportunity Center (COC)\, 105 Wildey Street\, Tarrytown \nFor more information\, please contact: \nMichelle Missry Marshall at tikkunolam@tba-ny.org \nPlease consider what you can provide and if you are interested in helping to set up\, serve and/or clean up.
URL:https://tba-ny.org/event/coc-dinner/
LOCATION:Community Opportunity Center\, 105 Wildey Street\, Tarrytown\, NY\, 10591\, United States
CATEGORIES:Dinner,Tikkun Olam
ORGANIZER;CN="Tikkun Olam":MAILTO:TikkunOlam@tba-ny.org
END:VEVENT
BEGIN:VEVENT
DTSTART;TZID=America/New_York:20131004T103000
DTEND;TZID=America/New_York:20131004T120000
DTSTAMP:20260423T055903
CREATED:20130916T023209Z
LAST-MODIFIED:20130916T023209Z
UID:2573-1380882600-1380888000@tba-ny.org
SUMMARY:Crafts for a Cause
DESCRIPTION:Come join us as we plan for new knitting projects. Bring your ideas. All welcome! Any questions: Contact Joyce Licker at tikkunolam@tba-ny.org for location and directions.
URL:https://tba-ny.org/event/crafts-for-a-cause/
LOCATION:Various Locations\, United States
CATEGORIES:Tikkun Olam
ORGANIZER;CN="Tikkun Olam":MAILTO:TikkunOlam@tba-ny.org
END:VEVENT
END:VCALENDAR